BEGIN:VCALENDAR
VERSION:2.0
PRODID:-//Care For Hedland - ECPv6.15.20//NONSGML v1.0//EN
CALSCALE:GREGORIAN
METHOD:PUBLISH
X-WR-CALNAME:Care For Hedland
X-ORIGINAL-URL:https://careforhedland.org.au
X-WR-CALDESC:Events for Care For Hedland
REFRESH-INTERVAL;VALUE=DURATION:PT1H
X-Robots-Tag:noindex
X-PUBLISHED-TTL:PT1H
BEGIN:VTIMEZONE
TZID:Asia/Shanghai
BEGIN:STANDARD
TZOFFSETFROM:+0800
TZOFFSETTO:+0800
TZNAME:CST
DTSTART:20180101T000000
END:STANDARD
END:VTIMEZONE
BEGIN:VEVENT
DTSTART;TZID=Asia/Shanghai:20190806T150000
DTEND;TZID=Asia/Shanghai:20190806T160000
DTSTAMP:20260425T232436
CREATED:20190612T032204Z
LAST-MODIFIED:20190612T032204Z
UID:1802-1565103600-1565107200@careforhedland.org.au
SUMMARY:Kids Garden Club
DESCRIPTION:Join us every week for fun activities about gardening! We focus on a different topic every week – such as learning about growing food\, how to make flowers bloom and making compost! \nWhere: RSL Community Garden\, South Hedland\nWhen: Tuesdays 3-4pm\nWho: All ages welcome!\nCost: Free! No bookings required \nFor more information\, contact the Care For Hedland Garden Coordinator Robyn on 0447 907 661 or email garden@careforhedland.org.au000
URL:https://careforhedland.org.au/event/kids-garden-club-8/
LOCATION:RSL Community Garden\, Hedditch Street\, South Hedland\, WA\, 6722\, Australia
CATEGORIES:Gardening
ATTACH;FMTTYPE=image/jpeg:https://careforhedland.org.au/wp-content/uploads/Kids-Club-Flyer.jpg
ORGANIZER;CN="Care For Hedland Association":MAILTO:coordinator@careforhedland.org.au
END:VEVENT
BEGIN:VEVENT
DTSTART;VALUE=DATE:20190801
DTEND;VALUE=DATE:20190901
DTSTAMP:20260425T232436
CREATED:20190612T020342Z
LAST-MODIFIED:20190612T020343Z
UID:1770-1564617600-1567295999@careforhedland.org.au
SUMMARY:South Hedland Street Blitz
DESCRIPTION:Do your bit for the environment and help Care for Hedland to blitz the streets of Hedland! \nNominate a team to join in the blitz! Teams can be made up of community or school groups\, businesses or a bunch of mates. Teams (minimum of five) can use any equipment at their disposal to “blitz” (remove rubbish\, mow verges\, tidy edges) their street. The winning team will not only receive bragging rights but also a trophy and medals! \nRemember to wear closed in shoes and drink plenty of water on the day\, as the competition will be HOT! \n  \nDate: TBC (check our Facebook page for updates!)
URL:https://careforhedland.org.au/event/south-hedland-street-blitz/
LOCATION:WA
CATEGORIES:Clean Ups
ATTACH;FMTTYPE=image/jpeg:https://careforhedland.org.au/wp-content/uploads/Street-Blitz-Logo.jpg
ORGANIZER;CN="Care For Hedland Association":MAILTO:coordinator@careforhedland.org.au
END:VEVENT
BEGIN:VEVENT
DTSTART;TZID=Asia/Shanghai:20190730T150000
DTEND;TZID=Asia/Shanghai:20190730T160000
DTSTAMP:20260425T232436
CREATED:20190612T032047Z
LAST-MODIFIED:20190612T032048Z
UID:1798-1564498800-1564502400@careforhedland.org.au
SUMMARY:Kids Garden Club
DESCRIPTION:Join us every week for fun activities about gardening! We focus on a different topic every week – such as learning about growing food\, how to make flowers bloom and making compost! \nWhere: RSL Community Garden\, South Hedland\nWhen: Tuesdays 3-4pm\nWho: All ages welcome!\nCost: Free! No bookings required \nFor more information\, contact the Care For Hedland Garden Coordinator Robyn on 0447 907 661 or email garden@careforhedland.org.au000
URL:https://careforhedland.org.au/event/kids-garden-club-7/
LOCATION:RSL Community Garden\, Hedditch Street\, South Hedland\, WA\, 6722\, Australia
CATEGORIES:Gardening
ATTACH;FMTTYPE=image/jpeg:https://careforhedland.org.au/wp-content/uploads/Kids-Club-Flyer.jpg
ORGANIZER;CN="Care For Hedland Association":MAILTO:coordinator@careforhedland.org.au
END:VEVENT
BEGIN:VEVENT
DTSTART;TZID=Asia/Shanghai:20190727T070000
DTEND;TZID=Asia/Shanghai:20190727T083000
DTSTAMP:20260425T232436
CREATED:20190227T035941Z
LAST-MODIFIED:20190227T035942Z
UID:1603-1564210800-1564216200@careforhedland.org.au
SUMMARY:Adopt-A-Spot
DESCRIPTION:Adopt-A-Spot roadside clean ups take place on the fourth Saturday of every month at a specific location on the Port-South highway (Wilson Street)\, to be announced on our Facebook page on the week of the clean up. We will be collecting rubbish from 7-8:30am. \nWear protective clothes and shoes\, hat and sunscreen and bring water. Gloves and bags provided! \nJoin in and make Hedland shine!
URL:https://careforhedland.org.au/event/adopt-a-spot-17/
LOCATION:Wilson Street\, Wilson Street\, Port Hedland\, WA\, 6721\, Australia
CATEGORIES:Clean Ups
ATTACH;FMTTYPE=image/jpeg:https://careforhedland.org.au/wp-content/uploads/Scadden-road.jpg
ORGANIZER;CN="Care For Hedland Association":MAILTO:coordinator@careforhedland.org.au
END:VEVENT
BEGIN:VEVENT
DTSTART;TZID=Asia/Shanghai:20190723T150000
DTEND;TZID=Asia/Shanghai:20190723T160000
DTSTAMP:20260425T232436
CREATED:20190612T032003Z
LAST-MODIFIED:20190612T032003Z
UID:1796-1563894000-1563897600@careforhedland.org.au
SUMMARY:Kids Garden Club
DESCRIPTION:Join us every week for fun activities about gardening! We focus on a different topic every week – such as learning about growing food\, how to make flowers bloom and making compost! \nWhere: RSL Community Garden\, South Hedland\nWhen: Tuesdays 3-4pm\nWho: All ages welcome!\nCost: Free! No bookings required \nFor more information\, contact the Care For Hedland Garden Coordinator Robyn on 0447 907 661 or email garden@careforhedland.org.au000
URL:https://careforhedland.org.au/event/kids-garden-club-6/
LOCATION:RSL Community Garden\, Hedditch Street\, South Hedland\, WA\, 6722\, Australia
CATEGORIES:Gardening
ATTACH;FMTTYPE=image/jpeg:https://careforhedland.org.au/wp-content/uploads/Kids-Club-Flyer.jpg
ORGANIZER;CN="Care For Hedland Association":MAILTO:coordinator@careforhedland.org.au
END:VEVENT
BEGIN:VEVENT
DTSTART;TZID=Asia/Shanghai:20190720T090000
DTEND;TZID=Asia/Shanghai:20190720T110000
DTSTAMP:20260425T232436
CREATED:20190612T015008Z
LAST-MODIFIED:20190612T015009Z
UID:1754-1563613200-1563620400@careforhedland.org.au
SUMMARY:Workshop: Everyone Can Compost!
DESCRIPTION:Want to reduce the amount of organic waste going in the bin but not sure how? Learn to compost! Join Robyn at the community garden as she takes you through the basics and shows you that everyone can compost! \nDon’t forget to get your garden blooming and ready for the 2019 Great Gardens Competition! \n9am-11am\, Saturday 20th July 2019\nRSL Community Garden\, Hedditch St\, South Hedland
URL:https://careforhedland.org.au/event/workshop-everyone-can-compost/
LOCATION:RSL Community Garden\, Hedditch Street\, South Hedland\, WA\, 6722\, Australia
CATEGORIES:Gardening
ATTACH;FMTTYPE=image/jpeg:https://careforhedland.org.au/wp-content/uploads/Compost-workshop.jpg
ORGANIZER;CN="Care For Hedland Association":MAILTO:coordinator@careforhedland.org.au
END:VEVENT
BEGIN:VEVENT
DTSTART;TZID=Asia/Shanghai:20190720T070000
DTEND;TZID=Asia/Shanghai:20190720T083000
DTSTAMP:20260425T232436
CREATED:20190227T034848Z
LAST-MODIFIED:20190227T034849Z
UID:1574-1563606000-1563611400@careforhedland.org.au
SUMMARY:Adopt-A-Spot
DESCRIPTION:Adopt-A-Spot roadside clean ups take place on the third Saturday of every month on Hamilton Road. We will be collecting rubbish from 7-8:30am. \nWear protective clothes and shoes\, hat and sunscreen and bring water. Gloves and bags provided! \nJoin in and make Hedland shine!
URL:https://careforhedland.org.au/event/adopt-a-spot-8/
LOCATION:Hamilton Road\, South Hedland\, Hamilton Road\, South Hedland\, WA\, 6721\, Australia
CATEGORIES:Clean Ups
ATTACH;FMTTYPE=image/jpeg:https://careforhedland.org.au/wp-content/uploads/Hamilton-road.jpg
ORGANIZER;CN="Care For Hedland Association":MAILTO:coordinator@careforhedland.org.au
END:VEVENT
BEGIN:VEVENT
DTSTART;TZID=Asia/Shanghai:20190716T150000
DTEND;TZID=Asia/Shanghai:20190716T160000
DTSTAMP:20260425T232436
CREATED:20190612T031843Z
LAST-MODIFIED:20190612T031843Z
UID:1793-1563289200-1563292800@careforhedland.org.au
SUMMARY:Kids Garden Club
DESCRIPTION:Join us every week for fun activities about gardening! We focus on a different topic every week – such as learning about growing food\, how to make flowers bloom and making compost! \nWhere: RSL Community Garden\, South Hedland\nWhen: Tuesdays 3-4pm\nWho: All ages welcome!\nCost: Free! No bookings required \nFor more information\, contact the Care For Hedland Garden Coordinator Robyn on 0447 907 661 or email garden@careforhedland.org.au000
URL:https://careforhedland.org.au/event/kids-garden-club-5/
LOCATION:RSL Community Garden\, Hedditch Street\, South Hedland\, WA\, 6722\, Australia
CATEGORIES:Gardening
ATTACH;FMTTYPE=image/jpeg:https://careforhedland.org.au/wp-content/uploads/Kids-Club-Flyer.jpg
ORGANIZER;CN="Care For Hedland Association":MAILTO:coordinator@careforhedland.org.au
END:VEVENT
BEGIN:VEVENT
DTSTART;TZID=Asia/Shanghai:20190713T080000
DTEND;TZID=Asia/Shanghai:20190713T100000
DTSTAMP:20260425T232436
CREATED:20190227T025737Z
LAST-MODIFIED:20190227T025738Z
UID:1543-1563004800-1563012000@careforhedland.org.au
SUMMARY:Recycle Day
DESCRIPTION:Recycle Day is organised by Care For Hedland with the help of Toxfree and PTES. Skip bins for paper/cardboard\, hard plastics and glass\, as well as a bag for aluminium cans\, are available for two hours from 8am until 10am on the second Saturday of every month. \nTwo locations: South Hedland shopping centre carpark AND Port Hedland Turf Club. \nAll recycling must be clean with NO FOOD RESIDUE and correctly sorted. Talk to our volunteers on the day if you aren’t sure of what is accepted and pick up a free recycling guide!
URL:https://careforhedland.org.au/event/recycle-day-7/
LOCATION:South Hedland shopping centre carpark\, 9-31 Throssell Road\, South Hedland\, WA\, 6722\, Australia
CATEGORIES:Recycling
ATTACH;FMTTYPE=image/jpeg:https://careforhedland.org.au/wp-content/uploads/Low-res.jpg
ORGANIZER;CN="Care For Hedland Association":MAILTO:coordinator@careforhedland.org.au
END:VEVENT
BEGIN:VEVENT
DTSTART;TZID=Asia/Shanghai:20190709T150000
DTEND;TZID=Asia/Shanghai:20190709T160000
DTSTAMP:20260425T232436
CREATED:20190612T031642Z
LAST-MODIFIED:20190612T031642Z
UID:1789-1562684400-1562688000@careforhedland.org.au
SUMMARY:Kids Garden Club
DESCRIPTION:Join us every week for fun activities about gardening! We focus on a different topic every week – such as learning about growing food\, how to make flowers bloom and making compost! \nWhere: RSL Community Garden\, South Hedland\nWhen: Tuesdays 3-4pm\nWho: All ages welcome!\nCost: Free! No bookings required \nFor more information\, contact the Care For Hedland Garden Coordinator Robyn on 0447 907 661 or email garden@careforhedland.org.au000
URL:https://careforhedland.org.au/event/kids-garden-club-4/
LOCATION:RSL Community Garden\, Hedditch Street\, South Hedland\, WA\, 6722\, Australia
CATEGORIES:Gardening
ATTACH;FMTTYPE=image/jpeg:https://careforhedland.org.au/wp-content/uploads/Kids-Club-Flyer.jpg
ORGANIZER;CN="Care For Hedland Association":MAILTO:coordinator@careforhedland.org.au
END:VEVENT
BEGIN:VEVENT
DTSTART;TZID=Asia/Shanghai:20190702T150000
DTEND;TZID=Asia/Shanghai:20190702T160000
DTSTAMP:20260425T232436
CREATED:20190612T031522Z
LAST-MODIFIED:20190612T031523Z
UID:1787-1562079600-1562083200@careforhedland.org.au
SUMMARY:Kids Garden Club
DESCRIPTION:Join us every week for fun activities about gardening! We focus on a different topic every week – such as learning about growing food\, how to make flowers bloom and making compost! \nWhere: RSL Community Garden\, South Hedland\nWhen: Tuesdays 3-4pm\nWho: All ages welcome!\nCost: Free! No bookings required \nFor more information\, contact the Care For Hedland Garden Coordinator Robyn on 0447 907 661 or email garden@careforhedland.org.au
URL:https://careforhedland.org.au/event/kids-garden-club-3/
LOCATION:RSL Community Garden\, Hedditch Street\, South Hedland\, WA\, 6722\, Australia
CATEGORIES:Gardening
ATTACH;FMTTYPE=image/jpeg:https://careforhedland.org.au/wp-content/uploads/Kids-Club-Flyer.jpg
ORGANIZER;CN="Care For Hedland Association":MAILTO:coordinator@careforhedland.org.au
END:VEVENT
BEGIN:VEVENT
DTSTART;TZID=Asia/Shanghai:20190625T150000
DTEND;TZID=Asia/Shanghai:20190625T160000
DTSTAMP:20260425T232436
CREATED:20190612T031316Z
LAST-MODIFIED:20190612T031317Z
UID:1784-1561474800-1561478400@careforhedland.org.au
SUMMARY:Kids Garden Club
DESCRIPTION:Join us every week for fun activities about gardening! We focus on a different topic every week – such as learning about growing food\, how to make flowers bloom and making compost! \nWhere: RSL Community Garden\, South Hedland\nWhen: Tuesdays 3-4pm\nWho: All ages welcome!\nCost: Free! No bookings required0 \nFor more information\, contact the Care For Hedland Garden Coordinator Robyn on 0447 907 661 or email garden@careforhedland.org.au
URL:https://careforhedland.org.au/event/kids-garden-club-2/
LOCATION:RSL Community Garden\, Hedditch Street\, South Hedland\, WA\, 6722\, Australia
CATEGORIES:Gardening
ATTACH;FMTTYPE=image/jpeg:https://careforhedland.org.au/wp-content/uploads/Kids-Club-Flyer.jpg
ORGANIZER;CN="Care For Hedland Association":MAILTO:coordinator@careforhedland.org.au
END:VEVENT
BEGIN:VEVENT
DTSTART;TZID=Asia/Shanghai:20190622T070000
DTEND;TZID=Asia/Shanghai:20190622T083000
DTSTAMP:20260425T232436
CREATED:20190227T035833Z
LAST-MODIFIED:20190227T035834Z
UID:1599-1561186800-1561192200@careforhedland.org.au
SUMMARY:Adopt-A-Spot
DESCRIPTION:Adopt-A-Spot roadside clean ups take place on the fourth Saturday of every month at a specific location on the Port-South highway (Wilson Street)\, to be announced on our Facebook page on the week of the clean up. We will be collecting rubbish from 7-8:30am. \nWear protective clothes and shoes\, hat and sunscreen and bring water. Gloves and bags provided! \nJoin in and make Hedland shine!
URL:https://careforhedland.org.au/event/adopt-a-spot-16/
LOCATION:Wilson Street\, Wilson Street\, Port Hedland\, WA\, 6721\, Australia
CATEGORIES:Clean Ups
ATTACH;FMTTYPE=image/jpeg:https://careforhedland.org.au/wp-content/uploads/6-mile-turnoff.jpg
ORGANIZER;CN="Care For Hedland Association":MAILTO:coordinator@careforhedland.org.au
END:VEVENT
BEGIN:VEVENT
DTSTART;TZID=Asia/Shanghai:20190618T150000
DTEND;TZID=Asia/Shanghai:20190618T160000
DTSTAMP:20260425T232436
CREATED:20190612T030638Z
LAST-MODIFIED:20190612T030639Z
UID:1778-1560870000-1560873600@careforhedland.org.au
SUMMARY:Kids Garden Club
DESCRIPTION:Join us every week for fun activities about gardening! We focus on a different topic every week – such as learning about growing food\, how to make flowers bloom and making compost! \nWhere: RSL Community Garden\, South Hedland\nWhen: Tuesdays 3-4pm\nWho: All ages welcome!\nCost: Free! No bookings required \nFor more information\, contact the Care For Hedland Garden Coordinator Robyn on 0447 907 661 or email garden@careforhedland.org.au
URL:https://careforhedland.org.au/event/kids-garden-club/
LOCATION:RSL Community Garden\, Hedditch Street\, South Hedland\, WA\, 6722\, Australia
CATEGORIES:Gardening
ATTACH;FMTTYPE=image/jpeg:https://careforhedland.org.au/wp-content/uploads/Kids-Club-Flyer.jpg
ORGANIZER;CN="Care For Hedland Association":MAILTO:coordinator@careforhedland.org.au
END:VEVENT
BEGIN:VEVENT
DTSTART;TZID=Asia/Shanghai:20190615T070000
DTEND;TZID=Asia/Shanghai:20190615T083000
DTSTAMP:20260425T232436
CREATED:20190227T034812Z
LAST-MODIFIED:20190227T034813Z
UID:1576-1560582000-1560587400@careforhedland.org.au
SUMMARY:Adopt-A-Spot
DESCRIPTION:Adopt-A-Spot roadside clean ups take place on the third Saturday of every month on Hamilton Road. We will be collecting rubbish from 7-8:30am. \nWear protective clothes and shoes\, hat and sunscreen and bring water. Gloves and bags provided! \nJoin in and make Hedland shine!
URL:https://careforhedland.org.au/event/adopt-a-spot-7/
LOCATION:Hamilton Road\, South Hedland\, Hamilton Road\, South Hedland\, WA\, 6721\, Australia
CATEGORIES:Clean Ups
ATTACH;FMTTYPE=image/jpeg:https://careforhedland.org.au/wp-content/uploads/Hamilton-road.jpg
ORGANIZER;CN="Care For Hedland Association":MAILTO:coordinator@careforhedland.org.au
END:VEVENT
END:VCALENDAR