BEGIN:VCALENDAR
VERSION:2.0
PRODID:-//Care For Hedland - ECPv6.15.20//NONSGML v1.0//EN
CALSCALE:GREGORIAN
METHOD:PUBLISH
X-WR-CALNAME:Care For Hedland
X-ORIGINAL-URL:https://careforhedland.org.au
X-WR-CALDESC:Events for Care For Hedland
REFRESH-INTERVAL;VALUE=DURATION:PT1H
X-Robots-Tag:noindex
X-PUBLISHED-TTL:PT1H
BEGIN:VTIMEZONE
TZID:Asia/Shanghai
BEGIN:STANDARD
TZOFFSETFROM:+0800
TZOFFSETTO:+0800
TZNAME:CST
DTSTART:20180101T000000
END:STANDARD
END:VTIMEZONE
BEGIN:VEVENT
DTSTART;TZID=Asia/Shanghai:20191019T070000
DTEND;TZID=Asia/Shanghai:20191019T083000
DTSTAMP:20260426T013556
CREATED:20190227T035144Z
LAST-MODIFIED:20190227T035145Z
UID:1583-1571468400-1571473800@careforhedland.org.au
SUMMARY:Adopt-A-Spot
DESCRIPTION:Adopt-A-Spot roadside clean ups take place on the third Saturday of every month on Hamilton Road. We will be collecting rubbish from 7-8:30am. \nWear protective clothes and shoes\, hat and sunscreen and bring water. Gloves and bags provided! \nJoin in and make Hedland shine!
URL:https://careforhedland.org.au/event/adopt-a-spot-11/
LOCATION:Hamilton Road\, South Hedland\, Hamilton Road\, South Hedland\, WA\, 6721\, Australia
CATEGORIES:Clean Ups
ATTACH;FMTTYPE=image/jpeg:https://careforhedland.org.au/wp-content/uploads/Hamilton-road.jpg
ORGANIZER;CN="Care For Hedland Association":MAILTO:coordinator@careforhedland.org.au
END:VEVENT
BEGIN:VEVENT
DTSTART;TZID=Asia/Shanghai:20191026T070000
DTEND;TZID=Asia/Shanghai:20191026T083000
DTSTAMP:20260426T013556
CREATED:20190227T045339Z
LAST-MODIFIED:20190227T045340Z
UID:1618-1572073200-1572078600@careforhedland.org.au
SUMMARY:Adopt-A-Spot
DESCRIPTION:Adopt-A-Spot roadside clean ups take place on the fourth Saturday of every month at a specific location on the Port-South highway (Wilson Street)\, to be announced on our Facebook page on the week of the clean up. We will be collecting rubbish from 7-8:30am. \nWear protective clothes and shoes\, hat and sunscreen and bring water. Gloves and bags provided! \nJoin in and make Hedland shine!
URL:https://careforhedland.org.au/event/adopt-a-spot-22/
LOCATION:Wilson Street\, Wilson Street\, Port Hedland\, WA\, 6721\, Australia
CATEGORIES:Clean Ups
ORGANIZER;CN="Care For Hedland Association":MAILTO:coordinator@careforhedland.org.au
END:VEVENT
BEGIN:VEVENT
DTSTART;TZID=Asia/Shanghai:20191109T080000
DTEND;TZID=Asia/Shanghai:20191109T100000
DTSTAMP:20260426T013556
CREATED:20190227T032031Z
LAST-MODIFIED:20190227T032032Z
UID:1558-1573286400-1573293600@careforhedland.org.au
SUMMARY:Recycle Day
DESCRIPTION:Recycle Day is organised by Care For Hedland with the help of Toxfree and PTES. Skip bins for paper/cardboard\, hard plastics and glass\, as well as a bag for aluminium cans\, are available for two hours from 8am until 10am on the second Saturday of every month. \nTwo locations: South Hedland shopping centre carpark AND Port Hedland Turf Club. \nAll recycling must be clean with NO FOOD RESIDUE and correctly sorted. Talk to our volunteers on the day if you aren’t sure of what is accepted and pick up a free recycling guide!
URL:https://careforhedland.org.au/event/recycle-day-11/
LOCATION:South Hedland shopping centre carpark\, 9-31 Throssell Road\, South Hedland\, WA\, 6722\, Australia
CATEGORIES:Recycling
ATTACH;FMTTYPE=image/jpeg:https://careforhedland.org.au/wp-content/uploads/Low-res.jpg
ORGANIZER;CN="Care For Hedland Association":MAILTO:coordinator@careforhedland.org.au
END:VEVENT
BEGIN:VEVENT
DTSTART;TZID=Asia/Shanghai:20191116T070000
DTEND;TZID=Asia/Shanghai:20191116T083000
DTSTAMP:20260426T013556
CREATED:20190227T035228Z
LAST-MODIFIED:20190227T035229Z
UID:1586-1573887600-1573893000@careforhedland.org.au
SUMMARY:Adopt-A-Spot
DESCRIPTION:Adopt-A-Spot roadside clean ups take place on the third Saturday of every month on Hamilton Road. We will be collecting rubbish from 7-8:30am. \nWear protective clothes and shoes\, hat and sunscreen and bring water. Gloves and bags provided! \nJoin in and make Hedland shine!
URL:https://careforhedland.org.au/event/adopt-a-spot-12/
LOCATION:Hamilton Road\, South Hedland\, Hamilton Road\, South Hedland\, WA\, 6721\, Australia
CATEGORIES:Clean Ups
ATTACH;FMTTYPE=image/jpeg:https://careforhedland.org.au/wp-content/uploads/Hamilton-road.jpg
ORGANIZER;CN="Care For Hedland Association":MAILTO:coordinator@careforhedland.org.au
END:VEVENT
BEGIN:VEVENT
DTSTART;TZID=Asia/Shanghai:20191123T070000
DTEND;TZID=Asia/Shanghai:20191123T083000
DTSTAMP:20260426T013556
CREATED:20190227T044626Z
LAST-MODIFIED:20190227T044713Z
UID:1610-1574492400-1574497800@careforhedland.org.au
SUMMARY:Adopt-A-Spot
DESCRIPTION:Adopt-A-Spot roadside clean ups take place on the fourth Saturday of every month at a specific location on the Port-South highway (Wilson Street)\, to be announced on our Facebook page on the week of the clean up. We will be collecting rubbish from 7-8:30am. \nWear protective clothes and shoes\, hat and sunscreen and bring water. Gloves and bags provided! \nJoin in and make Hedland shine!
URL:https://careforhedland.org.au/event/adopt-a-spot-20/
LOCATION:Wilson Street\, Wilson Street\, Port Hedland\, WA\, 6721\, Australia
CATEGORIES:Clean Ups
ATTACH;FMTTYPE=image/jpeg:https://careforhedland.org.au/wp-content/uploads/6-mile-turnoff.jpg
ORGANIZER;CN="Care For Hedland Association":MAILTO:coordinator@careforhedland.org.au
END:VEVENT
BEGIN:VEVENT
DTSTART;TZID=Asia/Shanghai:20191214T080000
DTEND;TZID=Asia/Shanghai:20191214T100000
DTSTAMP:20260426T013556
CREATED:20190227T032111Z
LAST-MODIFIED:20190227T032112Z
UID:1560-1576310400-1576317600@careforhedland.org.au
SUMMARY:Recycle Day
DESCRIPTION:Recycle Day is organised by Care For Hedland with the help of Toxfree and PTES. Skip bins for paper/cardboard\, hard plastics and glass\, as well as a bag for aluminium cans\, are available for two hours from 8am until 10am on the second Saturday of every month. \nTwo locations: South Hedland shopping centre carpark AND Port Hedland Turf Club. \nAll recycling must be clean with NO FOOD RESIDUE and correctly sorted. Talk to our volunteers on the day if you aren’t sure of what is accepted and pick up a free recycling guide!
URL:https://careforhedland.org.au/event/recycle-day-12/
LOCATION:South Hedland shopping centre carpark\, 9-31 Throssell Road\, South Hedland\, WA\, 6722\, Australia
CATEGORIES:Recycling
ATTACH;FMTTYPE=image/jpeg:https://careforhedland.org.au/wp-content/uploads/Lower-res.jpg
ORGANIZER;CN="Care For Hedland Association":MAILTO:coordinator@careforhedland.org.au
END:VEVENT
END:VCALENDAR