BEGIN:VCALENDAR
VERSION:2.0
PRODID:-//Care For Hedland - ECPv6.15.20//NONSGML v1.0//EN
CALSCALE:GREGORIAN
METHOD:PUBLISH
X-ORIGINAL-URL:https://careforhedland.org.au
X-WR-CALDESC:Events for Care For Hedland
REFRESH-INTERVAL;VALUE=DURATION:PT1H
X-Robots-Tag:noindex
X-PUBLISHED-TTL:PT1H
BEGIN:VTIMEZONE
TZID:Asia/Shanghai
BEGIN:STANDARD
TZOFFSETFROM:+0800
TZOFFSETTO:+0800
TZNAME:CST
DTSTART:20180101T000000
END:STANDARD
END:VTIMEZONE
BEGIN:VEVENT
DTSTART;VALUE=DATE:20190801
DTEND;VALUE=DATE:20190901
DTSTAMP:20260425T211506
CREATED:20190612T020342Z
LAST-MODIFIED:20190612T020343Z
UID:1770-1564617600-1567295999@careforhedland.org.au
SUMMARY:South Hedland Street Blitz
DESCRIPTION:Do your bit for the environment and help Care for Hedland to blitz the streets of Hedland! \nNominate a team to join in the blitz! Teams can be made up of community or school groups\, businesses or a bunch of mates. Teams (minimum of five) can use any equipment at their disposal to “blitz” (remove rubbish\, mow verges\, tidy edges) their street. The winning team will not only receive bragging rights but also a trophy and medals! \nRemember to wear closed in shoes and drink plenty of water on the day\, as the competition will be HOT! \n  \nDate: TBC (check our Facebook page for updates!)
URL:https://careforhedland.org.au/event/south-hedland-street-blitz/
LOCATION:WA
CATEGORIES:Clean Ups
ATTACH;FMTTYPE=image/jpeg:https://careforhedland.org.au/wp-content/uploads/Street-Blitz-Logo.jpg
ORGANIZER;CN="Care For Hedland Association":MAILTO:coordinator@careforhedland.org.au
END:VEVENT
END:VCALENDAR